BEGIN:VCALENDAR
VERSION:2.0
PRODID:-//wp-events-plugin.com//7.2.3.1//EN
TZID:America/Vancouver
X-WR-TIMEZONE:America/Vancouver
BEGIN:VEVENT
UID:575@silverchord.ca
DTSTART;TZID=America/Vancouver:20251229T140000
DTEND;TZID=America/Vancouver:20251229T160000
DTSTAMP:20250911T044734Z
URL:https://silverchord.ca/events/regular-rehearsal-5-2025-12-29/
SUMMARY:NO Rehearsal - Christmas Closure
DESCRIPTION:No rehearsal - facilities closed. Have a great holiday season a
 nd we’ll see you next year!.
CATEGORIES:Cancelled,Christmas
END:VEVENT
BEGIN:VTIMEZONE
TZID:America/Vancouver
X-LIC-LOCATION:America/Vancouver
BEGIN:STANDARD
DTSTART:20251102T010000
TZOFFSETFROM:-0700
TZOFFSETTO:-0800
TZNAME:PST
END:STANDARD
END:VTIMEZONE
END:VCALENDAR