BEGIN:VCALENDAR
VERSION:2.0
PRODID:-//wp-events-plugin.com//7.2.3.1//EN
TZID:America/Vancouver
X-WR-TIMEZONE:America/Vancouver
BEGIN:VEVENT
UID:626@silverchord.ca
DTSTART;TZID=America/Vancouver:20260601T100000
DTEND;TZID=America/Vancouver:20260601T120000
DTSTAMP:20260421T001510Z
URL:https://silverchord.ca/events/seniors-breakfast-show-2/
SUMMARY:Seniors’ Week Launch Breakfast
DESCRIPTION:Seniors' Week is a special time to recognise and celebrate the 
 seniors in our community. What better way to kick off the festivities than
  a delicious pancake breakfast\, followed by a concert from Port Coquitlam
 ’s very own seniors' choir\, The Silver Chord Choir! Join us in Mabbett 
 Hall at the Port Coquitlam Community Centre on Monday afternoon for an hou
 r of favourite tunes old and new. Bring the family\, bring your friends\, 
 bring your voice. Who knows\, you might even be inspired to join the Silve
 r Chord Choir in September!!
ATTACH;FMTTYPE=image/jpeg:https://silverchord.ca/wp-content/uploads/2024/0
 1/Webpage-Banner-2048x731-1.jpg
CATEGORIES:Performance,Special Event
LOCATION:Mabbett Hall\, PCCC\, 2150 Wilson Ave\, Port Coquitlam\, BC\, V3C 
 2A8\, Canada
GEO:49.25986;-122.776735
X-APPLE-STRUCTURED-LOCATION;VALUE=URI;X-ADDRESS=2150 Wilson Ave\, Port Coqu
 itlam\, BC\, V3C 2A8\, Canada;X-APPLE-RADIUS=100;X-TITLE=Mabbett Hall\, PC
 CC:geo:49.25986,-122.776735
END:VEVENT
BEGIN:VTIMEZONE
TZID:America/Vancouver
X-LIC-LOCATION:America/Vancouver
BEGIN:DAYLIGHT
DTSTART:20260308T030000
TZOFFSETFROM:-0800
TZOFFSETTO:-0700
TZNAME:PDT
END:DAYLIGHT
END:VTIMEZONE
END:VCALENDAR