BEGIN:VCALENDAR
VERSION:2.0
PRODID:-//wp-events-plugin.com//7.2.3.1//EN
TZID:America/Vancouver
X-WR-TIMEZONE:America/Vancouver
BEGIN:VEVENT
UID:3@silverchord.ca
DTSTART;TZID=America/Vancouver:20181204T140000
DTEND;TZID=America/Vancouver:20181204T150000
DTSTAMP:20181227T223251Z
URL:https://silverchord.ca/events/sing-out-shaughnessy-care-centre/
SUMMARY:Sing out Shaughnessy Care Centre
DESCRIPTION:Christmas repertoire\, regular attire with an optional festive 
 accessory
CATEGORIES:Performance
LOCATION:Shaughnessy Care Centre\, 2250 Wilson Ave.\, Port Coquitlam\, Brit
 ish Columbia\, V3C 3W4\, Metro Vancouver\, Canada
GEO:49.260875;-122.781953
X-APPLE-STRUCTURED-LOCATION;VALUE=URI;X-ADDRESS=2250 Wilson Ave.\, Port Coq
 uitlam\, British Columbia\, V3C 3W4\, Metro Vancouver\, Canada;X-APPLE-RAD
 IUS=100;X-TITLE=Shaughnessy Care Centre:geo:49.260875,-122.781953
END:VEVENT
BEGIN:VTIMEZONE
TZID:America/Vancouver
X-LIC-LOCATION:America/Vancouver
BEGIN:STANDARD
DTSTART:20181104T010000
TZOFFSETFROM:-0700
TZOFFSETTO:-0800
TZNAME:PST
END:STANDARD
END:VTIMEZONE
END:VCALENDAR